BEGIN:VCALENDAR
VERSION:2.0
METHOD:PUBLISH
X-WR-CALNAME:Tenis Přerov | listopad 06 2024-grudzień 06 2024
PRODID:-//strange bird labs//Drupal iCal API//EN
BEGIN:VEVENT
DTSTAMP;VALUE=DATE-TIME:20260423T185116Z
DTSTART;VALUE=DATE-TIME:20241129T100200Z
DTEND;VALUE=DATE-TIME:20020203
UID:http://www.tenis-prerov.cz/pl/node/1470
URL;VALUE=URI:http://www.tenis-prerov.cz/pl/node/1470
SUMMARY:Celostátní turnaj ČTS kategorie \\"A\\" dorostenci
DESCRIPTION:n.d.
END:VEVENT
BEGIN:VEVENT
DTSTAMP;VALUE=DATE-TIME:20260423T185116Z
DTSTART;VALUE=DATE-TIME:20241204T180000Z
DTEND;VALUE=DATE-TIME:20241204T180000Z
UID:http://www.tenis-prerov.cz/pl/node/1484
URL;VALUE=URI:http://www.tenis-prerov.cz/pl/node/1484
SUMMARY:OKsystem ZLATÝ KANÁR - VYHLÁŠENÍ NEJLEPŠÍCH ČESKÝCH TENISTŮ 4.12.2024 v Přerově
DESCRIPTION:n.d.
END:VEVENT
END:VCALENDAR
