BEGIN:VCALENDAR
VERSION:2.0
METHOD:PUBLISH
X-WR-CALNAME:Tenis Přerov | grudzień 16 2019-styczeń 15 2020
PRODID:-//strange bird labs//Drupal iCal API//EN
BEGIN:VEVENT
DTSTAMP;VALUE=DATE-TIME:20260424T001341Z
DTSTART;VALUE=DATE-TIME:20191221T153000Z
DTEND;VALUE=DATE-TIME:20191221T174000Z
UID:http://www.tenis-prerov.cz/pl/node/1237
URL;VALUE=URI:http://www.tenis-prerov.cz/pl/node/1237
SUMMARY:EMOS ZLATÝ KANÁR - PŘEROV 21.12.2019
DESCRIPTION:n.d.
END:VEVENT
END:VCALENDAR
