BEGIN:VCALENDAR
VERSION:2.0
METHOD:PUBLISH
X-WR-CALNAME:Tenis Přerov | październik 01 2017-październik 31 2017
PRODID:-//strange bird labs//Drupal iCal API//EN
BEGIN:VEVENT
DTSTAMP;VALUE=DATE-TIME:20260421T130223Z
DTSTART;VALUE=DATE-TIME:20170928T154200Z
DTEND;VALUE=DATE-TIME:20020203
UID:http://www.tenis-prerov.cz/pl/node/853
URL;VALUE=URI:http://www.tenis-prerov.cz/pl/node/853
SUMMARY:Turnajový okruh ČTS \\"B\\" v kategorii mladších žáků
DESCRIPTION:n.d.
END:VEVENT
END:VCALENDAR
