BEGIN:VCALENDAR
VERSION:2.0
METHOD:PUBLISH
X-WR-CALNAME:Tenis Přerov |  August 23 2021- August 30 2021
PRODID:-//strange bird labs//Drupal iCal API//EN
BEGIN:VEVENT
DTSTAMP;VALUE=DATE-TIME:20260424T001321Z
DTSTART;VALUE=DATE-TIME:20210822T171600Z
DTEND;VALUE=DATE-TIME:20020203
UID:http://www.tenis-prerov.cz/en/node/1371
URL;VALUE=URI:http://www.tenis-prerov.cz/en/node/1371
SUMMARY:Mezinárodní tenisový turnaj žen s dotací 60 000 USD ZUBR CUP by OKsystem
DESCRIPTION:n/a
END:VEVENT
END:VCALENDAR
