BEGIN:VCALENDAR
VERSION:2.0
METHOD:PUBLISH
X-WR-CALNAME:Tenis Přerov |  Červen 22 2020- Červenec 22 2020
PRODID:-//strange bird labs//Drupal iCal API//EN
BEGIN:VEVENT
DTSTAMP;VALUE=DATE-TIME:20260425T234202Z
DTSTART;VALUE=DATE-TIME:20200621T133500Z
DTEND;VALUE=DATE-TIME:20020203
UID:http://www.tenis-prerov.cz/cs/node/1278
URL;VALUE=URI:http://www.tenis-prerov.cz/cs/node/1278
SUMMARY:AKUNA CUP - TENISOVÁ AKADEMIE PETRA HUŤKY
DESCRIPTION:není
END:VEVENT
BEGIN:VEVENT
DTSTAMP;VALUE=DATE-TIME:20260425T234202Z
DTSTART;VALUE=DATE-TIME:20200621T133500Z
DTEND;VALUE=DATE-TIME:20020203
UID:http://www.tenis-prerov.cz/cs/node/1281
URL;VALUE=URI:http://www.tenis-prerov.cz/cs/node/1281
SUMMARY:AKUNA CUP - TENISOVÁ AKADEMIE PETRA HUŤKY
DESCRIPTION:není
END:VEVENT
END:VCALENDAR
